Package: TENxIO Version: 1.6.1 Command: E:\biocbuild\bbs-3.19-bioc\R\bin\R.exe CMD check --no-multiarch --install=check:TENxIO.install-out.txt --library=E:\biocbuild\bbs-3.19-bioc\R\library --no-vignettes --timings TENxIO_1.6.1.tar.gz StartedAt: 2024-10-17 06:27:09 -0400 (Thu, 17 Oct 2024) EndedAt: 2024-10-17 06:31:26 -0400 (Thu, 17 Oct 2024) EllapsedTime: 256.9 seconds RetCode: 0 Status: OK CheckDir: TENxIO.Rcheck Warnings: 0