Package: TENxIO Version: 1.6.1 Command: chmod a+r TENxIO -R && E:\biocbuild\bbs-3.19-bioc\R\bin\R.exe CMD build --keep-empty-dirs --no-resave-data TENxIO StartedAt: 2024-10-16 22:18:56 -0400 (Wed, 16 Oct 2024) EndedAt: 2024-10-16 22:19:57 -0400 (Wed, 16 Oct 2024) EllapsedTime: 60.7 seconds RetCode: 0 Status: OK PackageFile: TENxIO_1.6.1.tar.gz PackageFileSize: 255.9 KiB