Package: TENxIO Version: 1.6.1 Command: rm -rf TENxIO.buildbin-libdir && mkdir TENxIO.buildbin-libdir && E:\biocbuild\bbs-3.19-bioc\R\bin\R.exe CMD INSTALL --build --library=TENxIO.buildbin-libdir TENxIO_1.6.1.tar.gz StartedAt: 2024-10-17 08:46:09 -0400 (Thu, 17 Oct 2024) EndedAt: 2024-10-17 08:46:45 -0400 (Thu, 17 Oct 2024) EllapsedTime: 36.1 seconds RetCode: 0 Status: OK PackageFile: TENxIO_1.6.1.zip PackageFileSize: 538.9 KiB