Package: TENxIO Version: 1.6.1 Command: /home/biocbuild/bbs-3.19-bioc/R/bin/R CMD check --install=check:TENxIO.install-out.txt --library=/home/biocbuild/bbs-3.19-bioc/R/site-library --timings TENxIO_1.6.1.tar.gz StartedAt: 2024-10-17 05:48:49 -0400 (Thu, 17 Oct 2024) EndedAt: 2024-10-17 05:52:09 -0400 (Thu, 17 Oct 2024) EllapsedTime: 199.4 seconds RetCode: 0 Status: OK CheckDir: TENxIO.Rcheck Warnings: 0