Package: TENxIO Version: 1.6.1 Command: /home/biocbuild/bbs-3.19-bioc/R/bin/R CMD build --keep-empty-dirs --no-resave-data TENxIO StartedAt: 2024-10-16 21:08:49 -0400 (Wed, 16 Oct 2024) EndedAt: 2024-10-16 21:09:30 -0400 (Wed, 16 Oct 2024) EllapsedTime: 41.4 seconds RetCode: 0 Status: OK PackageFile: TENxIO_1.6.1.tar.gz PackageFileSize: 255.8 KiB