Package: TENxIO Version: 1.6.1 Command: /Library/Frameworks/R.framework/Resources/bin/R CMD INSTALL TENxIO StartedAt: 2024-10-16 15:22:05 -0400 (Wed, 16 Oct 2024) EndedAt: 2024-10-16 15:23:03 -0400 (Wed, 16 Oct 2024) EllapsedTime: 58.0 seconds RetCode: 0 Status: OK