Package: TENxIO Version: 1.6.1 Command: /Library/Frameworks/R.framework/Resources/bin/R CMD build --keep-empty-dirs --no-resave-data TENxIO StartedAt: 2024-10-16 23:55:49 -0400 (Wed, 16 Oct 2024) EndedAt: 2024-10-16 23:57:26 -0400 (Wed, 16 Oct 2024) EllapsedTime: 97.5 seconds RetCode: 1 Status: ERROR PackageFile: None PackageFileSize: NA