Package: TENxIO Version: 1.6.1 Command: /Library/Frameworks/R.framework/Resources/bin/R CMD INSTALL TENxIO StartedAt: 2024-10-16 15:59:25 -0400 (Wed, 16 Oct 2024) EndedAt: 2024-10-16 15:59:58 -0400 (Wed, 16 Oct 2024) EllapsedTime: 32.8 seconds RetCode: 0 Status: OK