Package: TEKRABber Version: 1.8.0 Command: chmod a+r TEKRABber -R && E:\biocbuild\bbs-3.19-bioc\R\bin\R.exe CMD build --keep-empty-dirs --no-resave-data TEKRABber StartedAt: 2024-10-16 22:18:47 -0400 (Wed, 16 Oct 2024) EndedAt: 2024-10-16 22:21:07 -0400 (Wed, 16 Oct 2024) EllapsedTime: 140.2 seconds RetCode: 0 Status: OK PackageFile: TEKRABber_1.8.0.tar.gz PackageFileSize: 3.44 MiB