Package: TEKRABber Version: 1.8.0 Command: rm -rf TEKRABber.buildbin-libdir && mkdir TEKRABber.buildbin-libdir && E:\biocbuild\bbs-3.19-bioc\R\bin\R.exe CMD INSTALL --build --library=TEKRABber.buildbin-libdir TEKRABber_1.8.0.tar.gz StartedAt: 2024-10-17 08:46:07 -0400 (Thu, 17 Oct 2024) EndedAt: 2024-10-17 08:46:57 -0400 (Thu, 17 Oct 2024) EllapsedTime: 49.5 seconds RetCode: 0 Status: OK PackageFile: TEKRABber_1.8.0.zip PackageFileSize: 3.696 MiB