Package: TEKRABber Version: 1.8.0 Command: /home/biocbuild/bbs-3.19-bioc/R/bin/R CMD build --keep-empty-dirs --no-resave-data TEKRABber StartedAt: 2024-10-16 21:08:41 -0400 (Wed, 16 Oct 2024) EndedAt: 2024-10-16 21:10:32 -0400 (Wed, 16 Oct 2024) EllapsedTime: 111.5 seconds RetCode: 0 Status: OK PackageFile: TEKRABber_1.8.0.tar.gz PackageFileSize: 3.44 MiB