Package: TEKRABber Version: 1.8.0 Command: /Library/Frameworks/R.framework/Resources/bin/R CMD INSTALL TEKRABber StartedAt: 2024-10-16 15:50:56 -0400 (Wed, 16 Oct 2024) EndedAt: 2024-10-16 15:52:26 -0400 (Wed, 16 Oct 2024) EllapsedTime: 89.7 seconds RetCode: 0 Status: OK