Package: TEKRABber Version: 1.8.0 Command: /Library/Frameworks/R.framework/Resources/bin/R CMD build --keep-empty-dirs --no-resave-data TEKRABber StartedAt: 2024-06-10 05:53:32 -0400 (Mon, 10 Jun 2024) EndedAt: 2024-06-10 05:56:10 -0400 (Mon, 10 Jun 2024) EllapsedTime: 158.3 seconds RetCode: 0 Status: OK PackageFile: TEKRABber_1.8.0.tar.gz PackageFileSize: 3.44 MiB