Package: TEKRABber Version: 1.8.0 Command: /Library/Frameworks/R.framework/Resources/bin/R CMD build --keep-empty-dirs --no-resave-data TEKRABber StartedAt: 2024-10-17 10:36:13 -0400 (Thu, 17 Oct 2024) EndedAt: 2024-10-17 10:38:29 -0400 (Thu, 17 Oct 2024) EllapsedTime: 136.3 seconds RetCode: 0 Status: OK PackageFile: TEKRABber_1.8.0.tar.gz PackageFileSize: 3.44 MiB