Package: TDbasedUFE Version: 1.4.0 Command: rm -rf TDbasedUFE.buildbin-libdir && mkdir TDbasedUFE.buildbin-libdir && F:\biocbuild\bbs-3.19-bioc\R\bin\R.exe CMD INSTALL --build --library=TDbasedUFE.buildbin-libdir TDbasedUFE_1.4.0.tar.gz StartedAt: 2024-06-27 09:02:05 -0400 (Thu, 27 Jun 2024) EndedAt: 2024-06-27 09:02:31 -0400 (Thu, 27 Jun 2024) EllapsedTime: 25.1 seconds RetCode: 0 Status: OK PackageFile: TDbasedUFE_1.4.0.zip PackageFileSize: 806.7 KiB