Package: TCseq Version: 1.28.0 Command: E:\biocbuild\bbs-3.19-bioc\R\bin\R.exe CMD check --no-multiarch --install=check:TCseq.install-out.txt --library=E:\biocbuild\bbs-3.19-bioc\R\library --no-vignettes --timings TCseq_1.28.0.tar.gz StartedAt: 2024-10-17 06:26:21 -0400 (Thu, 17 Oct 2024) EndedAt: 2024-10-17 06:30:15 -0400 (Thu, 17 Oct 2024) EllapsedTime: 234.4 seconds RetCode: 0 Status: WARNINGS CheckDir: TCseq.Rcheck Warnings: 1