Package: TCseq Version: 1.28.0 Command: /Library/Frameworks/R.framework/Resources/bin/R CMD build --keep-empty-dirs --no-resave-data TCseq StartedAt: 2024-10-16 23:55:06 -0400 (Wed, 16 Oct 2024) EndedAt: 2024-10-16 23:56:58 -0400 (Wed, 16 Oct 2024) EllapsedTime: 112.1 seconds RetCode: 0 Status: OK PackageFile: TCseq_1.28.0.tar.gz PackageFileSize: 1.114 MiB