Package: TCseq Version: 1.28.0 Command: rm -rf TCseq.buildbin-libdir && mkdir TCseq.buildbin-libdir && /Users/biocbuild/BBS/utils/build-universal.sh TCseq_1.28.0.tar.gz /Library/Frameworks/R.framework/Resources/bin/R TCseq.buildbin-libdir StartedAt: 2024-10-15 20:35:38 -0400 (Tue, 15 Oct 2024) EndedAt: 2024-10-15 20:36:21 -0400 (Tue, 15 Oct 2024) EllapsedTime: 43.5 seconds RetCode: 0 Status: OK PackageFile: TCseq_1.28.0.tgz PackageFileSize: 837.5 KiB