Package: TCGAutils Version: 1.24.0 Command: /home/biocbuild/bbs-3.19-bioc/R/bin/R CMD INSTALL TCGAutils StartedAt: 2024-10-16 16:04:58 -0400 (Wed, 16 Oct 2024) EndedAt: 2024-10-16 16:05:42 -0400 (Wed, 16 Oct 2024) EllapsedTime: 43.4 seconds RetCode: 0 Status: OK