Package: TCGAutils Version: 1.24.0 Command: /home/biocbuild/bbs-3.19-bioc/R/bin/R CMD check --install=check:TCGAutils.install-out.txt --library=/home/biocbuild/bbs-3.19-bioc/R/site-library --timings TCGAutils_1.24.0.tar.gz StartedAt: 2024-10-17 05:47:49 -0400 (Thu, 17 Oct 2024) EndedAt: 2024-10-17 05:56:31 -0400 (Thu, 17 Oct 2024) EllapsedTime: 522.0 seconds RetCode: 0 Status: OK CheckDir: TCGAutils.Rcheck Warnings: 0