Package: TCGAutils Version: 1.24.0 Command: /Library/Frameworks/R.framework/Resources/bin/R CMD INSTALL TCGAutils StartedAt: 2024-10-16 15:37:27 -0400 (Wed, 16 Oct 2024) EndedAt: 2024-10-16 15:38:54 -0400 (Wed, 16 Oct 2024) EllapsedTime: 86.6 seconds RetCode: 0 Status: OK