Package: TCGAutils Version: 1.24.0 Command: /Library/Frameworks/R.framework/Resources/bin/R CMD check --install=check:TCGAutils.install-out.txt --library=/Library/Frameworks/R.framework/Resources/library --no-vignettes --timings TCGAutils_1.24.0.tar.gz StartedAt: 2024-10-17 14:14:17 -0400 (Thu, 17 Oct 2024) EndedAt: 2024-10-17 14:28:25 -0400 (Thu, 17 Oct 2024) EllapsedTime: 848.2 seconds RetCode: 0 Status: OK CheckDir: TCGAutils.Rcheck Warnings: 0