Package: TCGAutils Version: 1.24.0 Command: rm -rf TCGAutils.buildbin-libdir && mkdir TCGAutils.buildbin-libdir && /Users/biocbuild/BBS/utils/build-universal.sh TCGAutils_1.24.0.tar.gz /Library/Frameworks/R.framework/Resources/bin/R TCGAutils.buildbin-libdir StartedAt: 2024-10-17 17:20:35 -0400 (Thu, 17 Oct 2024) EndedAt: 2024-10-17 17:22:02 -0400 (Thu, 17 Oct 2024) EllapsedTime: 87.2 seconds RetCode: 0 Status: OK PackageFile: TCGAutils_1.24.0.tgz PackageFileSize: 516 KiB