Package: TCGAutils Version: 1.24.0 Command: /home/biocbuild/R/R-beta-2024-04-15_r86425/bin/R CMD check --install=check:TCGAutils.install-out.txt --library=/home/biocbuild/R/R-beta-2024-04-15_r86425/site-library --no-vignettes --timings TCGAutils_1.24.0.tar.gz StartedAt: 2024-05-08 12:36:33 -0000 (Wed, 08 May 2024) EndedAt: 2024-05-08 12:46:19 -0000 (Wed, 08 May 2024) EllapsedTime: 586.0 seconds RetCode: 0 Status: OK CheckDir: TCGAutils.Rcheck Warnings: 0