Package: TCGAutils Version: 1.24.0 Command: /Library/Frameworks/R.framework/Resources/bin/R CMD check --install=check:TCGAutils.install-out.txt --library=/Library/Frameworks/R.framework/Resources/library --no-vignettes --timings TCGAutils_1.24.0.tar.gz StartedAt: 2024-10-18 14:50:52 -0400 (Fri, 18 Oct 2024) EndedAt: 2024-10-18 15:00:33 -0400 (Fri, 18 Oct 2024) EllapsedTime: 580.4 seconds RetCode: 0 Status: OK CheckDir: TCGAutils.Rcheck Warnings: 0