Package: TCGAbiolinks Version: 2.32.0 Command: rm -rf TCGAbiolinks.buildbin-libdir && mkdir TCGAbiolinks.buildbin-libdir && E:\biocbuild\bbs-3.19-bioc\R\bin\R.exe CMD INSTALL --build --library=TCGAbiolinks.buildbin-libdir TCGAbiolinks_2.32.0.tar.gz StartedAt: 2024-10-10 08:17:18 -0400 (Thu, 10 Oct 2024) EndedAt: 2024-10-10 08:19:03 -0400 (Thu, 10 Oct 2024) EllapsedTime: 104.3 seconds RetCode: 0 Status: OK PackageFile: TCGAbiolinks_2.32.0.zip PackageFileSize: 60.52 MiB