Package: TCGAbiolinks Version: 2.32.0 Command: /Library/Frameworks/R.framework/Resources/bin/R CMD build --keep-empty-dirs --no-resave-data TCGAbiolinks StartedAt: 2024-10-16 23:54:15 -0400 (Wed, 16 Oct 2024) EndedAt: 2024-10-17 00:01:16 -0400 (Thu, 17 Oct 2024) EllapsedTime: 420.5 seconds RetCode: 1 Status: ERROR PackageFile: None PackageFileSize: NA