Package: TCGAbiolinks Version: 2.32.0 Command: rm -rf TCGAbiolinks.buildbin-libdir && mkdir TCGAbiolinks.buildbin-libdir && /Users/biocbuild/BBS/utils/build-universal.sh TCGAbiolinks_2.32.0.tar.gz /Library/Frameworks/R.framework/Resources/bin/R TCGAbiolinks.buildbin-libdir StartedAt: 2024-10-14 17:15:08 -0400 (Mon, 14 Oct 2024) EndedAt: 2024-10-14 17:17:26 -0400 (Mon, 14 Oct 2024) EllapsedTime: 137.8 seconds RetCode: 0 Status: OK PackageFile: TCGAbiolinks_2.32.0.tgz PackageFileSize: 67.05 MiB