Package: TCGAbiolinks Version: 2.32.0 Command: /home/biocbuild/R/R-beta-2024-04-15_r86425/bin/R CMD check --install=check:TCGAbiolinks.install-out.txt --library=/home/biocbuild/R/R-beta-2024-04-15_r86425/site-library --no-vignettes --timings TCGAbiolinks_2.32.0.tar.gz StartedAt: 2024-05-08 12:36:26 -0000 (Wed, 08 May 2024) EndedAt: 2024-05-08 12:48:08 -0000 (Wed, 08 May 2024) EllapsedTime: 702.2 seconds RetCode: 0 Status: WARNINGS CheckDir: TCGAbiolinks.Rcheck Warnings: 2