Package: TCGAbiolinks Version: 2.32.0 Command: /home/biocbuild/R/R-beta-2024-04-15_r86425/bin/R CMD build --keep-empty-dirs --no-resave-data TCGAbiolinks StartedAt: 2024-05-09 04:03:52 -0000 (Thu, 09 May 2024) EndedAt: 2024-05-09 04:12:21 -0000 (Thu, 09 May 2024) EllapsedTime: 508.7 seconds RetCode: 0 Status: OK PackageFile: TCGAbiolinks_2.32.0.tar.gz PackageFileSize: 52.53 MiB