Package: TCGAbiolinks Version: 2.32.0 Command: /Library/Frameworks/R.framework/Resources/bin/R CMD check --install=check:TCGAbiolinks.install-out.txt --library=/Library/Frameworks/R.framework/Resources/library --no-vignettes --timings TCGAbiolinks_2.32.0.tar.gz StartedAt: 2024-06-11 07:55:58 -0400 (Tue, 11 Jun 2024) EndedAt: 2024-06-11 08:09:33 -0400 (Tue, 11 Jun 2024) EllapsedTime: 814.7 seconds RetCode: 1 Status: ERROR CheckDir: TCGAbiolinks.Rcheck Warnings: NA