Package: TCGAbiolinks Version: 2.32.0 Command: /Library/Frameworks/R.framework/Resources/bin/R CMD INSTALL TCGAbiolinks StartedAt: 2024-10-16 17:00:39 -0400 (Wed, 16 Oct 2024) EndedAt: 2024-10-16 17:01:34 -0400 (Wed, 16 Oct 2024) EllapsedTime: 54.7 seconds RetCode: 0 Status: OK