Package: TCGAbiolinks Version: 2.32.0 Command: rm -rf TCGAbiolinks.buildbin-libdir && mkdir TCGAbiolinks.buildbin-libdir && /Users/biocbuild/BBS/utils/build-universal.sh TCGAbiolinks_2.32.0.tar.gz /Library/Frameworks/R.framework/Resources/bin/R TCGAbiolinks.buildbin-libdir StartedAt: 2024-07-12 16:44:25 -0400 (Fri, 12 Jul 2024) EndedAt: 2024-07-12 16:45:40 -0400 (Fri, 12 Jul 2024) EllapsedTime: 75.0 seconds RetCode: 0 Status: OK PackageFile: TCGAbiolinks_2.32.0.tgz PackageFileSize: 67.05 MiB