Package: TCC Version: 1.44.0 Command: chmod a+r TCC -R && E:\biocbuild\bbs-3.19-bioc\R\bin\R.exe CMD build --keep-empty-dirs --no-resave-data TCC StartedAt: 2024-10-16 22:18:12 -0400 (Wed, 16 Oct 2024) EndedAt: 2024-10-16 22:20:25 -0400 (Wed, 16 Oct 2024) EllapsedTime: 132.1 seconds RetCode: 0 Status: OK PackageFile: TCC_1.44.0.tar.gz PackageFileSize: 1.366 MiB