Package: TCC Version: 1.44.0 Command: rm -rf TCC.buildbin-libdir && mkdir TCC.buildbin-libdir && E:\biocbuild\bbs-3.19-bioc\R\bin\R.exe CMD INSTALL --build --library=TCC.buildbin-libdir TCC_1.44.0.tar.gz StartedAt: 2024-10-17 08:45:58 -0400 (Thu, 17 Oct 2024) EndedAt: 2024-10-17 08:46:40 -0400 (Thu, 17 Oct 2024) EllapsedTime: 42.2 seconds RetCode: 0 Status: OK PackageFile: TCC_1.44.0.zip PackageFileSize: 1.708 MiB