Package: TCC Version: 1.44.0 Command: chmod a+r TCC -R && F:\biocbuild\bbs-3.19-bioc\R\bin\R.exe CMD build --keep-empty-dirs --no-resave-data TCC StartedAt: 2024-06-26 22:20:03 -0400 (Wed, 26 Jun 2024) EndedAt: 2024-06-26 22:22:22 -0400 (Wed, 26 Jun 2024) EllapsedTime: 138.4 seconds RetCode: 0 Status: OK PackageFile: TCC_1.44.0.tar.gz PackageFileSize: 1.365 MiB