Package: TCC Version: 1.44.0 Command: rm -rf TCC.buildbin-libdir && mkdir TCC.buildbin-libdir && /Users/biocbuild/BBS/utils/build-universal.sh TCC_1.44.0.tar.gz /Library/Frameworks/R.framework/Resources/bin/R TCC.buildbin-libdir StartedAt: 2024-10-17 17:20:31 -0400 (Thu, 17 Oct 2024) EndedAt: 2024-10-17 17:21:46 -0400 (Thu, 17 Oct 2024) EllapsedTime: 75.0 seconds RetCode: 0 Status: OK PackageFile: TCC_1.44.0.tgz PackageFileSize: 2.94 MiB