Package: TCC Version: 1.44.0 Command: /Library/Frameworks/R.framework/Resources/bin/R CMD build --keep-empty-dirs --no-resave-data TCC StartedAt: 2024-06-09 18:24:20 -0400 (Sun, 09 Jun 2024) EndedAt: 2024-06-09 18:26:05 -0400 (Sun, 09 Jun 2024) EllapsedTime: 104.6 seconds RetCode: 0 Status: OK PackageFile: TCC_1.44.0.tar.gz PackageFileSize: 2.6 MiB