Package: TCC Version: 1.44.0 Command: /Library/Frameworks/R.framework/Resources/bin/R CMD INSTALL TCC StartedAt: 2024-10-16 16:29:52 -0400 (Wed, 16 Oct 2024) EndedAt: 2024-10-16 16:30:26 -0400 (Wed, 16 Oct 2024) EllapsedTime: 34.5 seconds RetCode: 0 Status: OK