Package: TCC Version: 1.44.0 Command: /Library/Frameworks/R.framework/Resources/bin/R CMD build --keep-empty-dirs --no-resave-data TCC StartedAt: 2024-10-17 10:33:12 -0400 (Thu, 17 Oct 2024) EndedAt: 2024-10-17 10:35:31 -0400 (Thu, 17 Oct 2024) EllapsedTime: 138.8 seconds RetCode: 0 Status: OK PackageFile: TCC_1.44.0.tar.gz PackageFileSize: 2.601 MiB