Package: TBSignatureProfiler Version: 1.16.0 Command: chmod a+r TBSignatureProfiler -R && E:\biocbuild\bbs-3.19-bioc\R\bin\R.exe CMD build --keep-empty-dirs --no-resave-data TBSignatureProfiler StartedAt: 2024-10-16 22:17:59 -0400 (Wed, 16 Oct 2024) EndedAt: 2024-10-16 22:19:14 -0400 (Wed, 16 Oct 2024) EllapsedTime: 75.1 seconds RetCode: 0 Status: OK PackageFile: TBSignatureProfiler_1.16.0.tar.gz PackageFileSize: 3.342 MiB