Package: TBSignatureProfiler Version: 1.16.0 Command: rm -rf TBSignatureProfiler.buildbin-libdir && mkdir TBSignatureProfiler.buildbin-libdir && E:\biocbuild\bbs-3.19-bioc\R\bin\R.exe CMD INSTALL --build --library=TBSignatureProfiler.buildbin-libdir TBSignatureProfiler_1.16.0.tar.gz StartedAt: 2024-10-17 08:45:57 -0400 (Thu, 17 Oct 2024) EndedAt: 2024-10-17 08:46:38 -0400 (Thu, 17 Oct 2024) EllapsedTime: 41.9 seconds RetCode: 0 Status: OK PackageFile: TBSignatureProfiler_1.16.0.zip PackageFileSize: 3.805 MiB