Package: TBSignatureProfiler Version: 1.16.0 Command: F:\biocbuild\bbs-3.19-bioc\R\bin\R.exe CMD INSTALL TBSignatureProfiler StartedAt: 2024-06-26 16:43:51 -0400 (Wed, 26 Jun 2024) EndedAt: 2024-06-26 16:44:01 -0400 (Wed, 26 Jun 2024) EllapsedTime: 10.1 seconds RetCode: 0 Status: OK