Package: TBSignatureProfiler Version: 1.16.0 Command: rm -rf TBSignatureProfiler.buildbin-libdir && mkdir TBSignatureProfiler.buildbin-libdir && F:\biocbuild\bbs-3.19-bioc\R\bin\R.exe CMD INSTALL --build --library=TBSignatureProfiler.buildbin-libdir TBSignatureProfiler_1.16.0.tar.gz StartedAt: 2024-06-27 09:01:53 -0400 (Thu, 27 Jun 2024) EndedAt: 2024-06-27 09:02:24 -0400 (Thu, 27 Jun 2024) EllapsedTime: 31.1 seconds RetCode: 0 Status: OK PackageFile: TBSignatureProfiler_1.16.0.zip PackageFileSize: 3.805 MiB