Package: TBSignatureProfiler Version: 1.16.0 Command: /home/biocbuild/bbs-3.19-bioc/R/bin/R CMD check --install=check:TBSignatureProfiler.install-out.txt --library=/home/biocbuild/bbs-3.19-bioc/R/site-library --timings TBSignatureProfiler_1.16.0.tar.gz StartedAt: 2024-10-17 05:47:32 -0400 (Thu, 17 Oct 2024) EndedAt: 2024-10-17 05:50:44 -0400 (Thu, 17 Oct 2024) EllapsedTime: 191.4 seconds RetCode: 0 Status: OK CheckDir: TBSignatureProfiler.Rcheck Warnings: 0