Package: TBSignatureProfiler Version: 1.16.0 Command: /Library/Frameworks/R.framework/Resources/bin/R CMD build --keep-empty-dirs --no-resave-data TBSignatureProfiler StartedAt: 2024-10-16 23:54:03 -0400 (Wed, 16 Oct 2024) EndedAt: 2024-10-16 23:56:32 -0400 (Wed, 16 Oct 2024) EllapsedTime: 149.3 seconds RetCode: 0 Status: OK PackageFile: TBSignatureProfiler_1.16.0.tar.gz PackageFileSize: 4.413 MiB