Package: TBSignatureProfiler Version: 1.16.0 Command: /home/biocbuild/R/R-beta-2024-04-15_r86425/bin/R CMD check --install=check:TBSignatureProfiler.install-out.txt --library=/home/biocbuild/R/R-beta-2024-04-15_r86425/site-library --no-vignettes --timings TBSignatureProfiler_1.16.0.tar.gz StartedAt: 2024-05-08 12:36:01 -0000 (Wed, 08 May 2024) EndedAt: 2024-05-08 12:39:13 -0000 (Wed, 08 May 2024) EllapsedTime: 192.3 seconds RetCode: 0 Status: OK CheckDir: TBSignatureProfiler.Rcheck Warnings: 0