Package: TAPseq Version: 1.16.0 Command: /Library/Frameworks/R.framework/Resources/bin/R CMD INSTALL TAPseq StartedAt: 2024-10-16 15:40:28 -0400 (Wed, 16 Oct 2024) EndedAt: 2024-10-16 15:41:58 -0400 (Wed, 16 Oct 2024) EllapsedTime: 89.8 seconds RetCode: 0 Status: OK