Package: SynMut Version: 1.20.0 Command: E:\biocbuild\bbs-3.19-bioc\R\bin\R.exe CMD INSTALL SynMut StartedAt: 2024-10-16 16:13:07 -0400 (Wed, 16 Oct 2024) EndedAt: 2024-10-16 16:13:36 -0400 (Wed, 16 Oct 2024) EllapsedTime: 28.9 seconds RetCode: 0 Status: OK