Package: SynMut Version: 1.20.0 Command: rm -rf SynMut.buildbin-libdir && mkdir SynMut.buildbin-libdir && E:\biocbuild\bbs-3.19-bioc\R\bin\R.exe CMD INSTALL --build --library=SynMut.buildbin-libdir SynMut_1.20.0.tar.gz StartedAt: 2024-10-17 08:45:26 -0400 (Thu, 17 Oct 2024) EndedAt: 2024-10-17 08:45:57 -0400 (Thu, 17 Oct 2024) EllapsedTime: 31.0 seconds RetCode: 0 Status: OK PackageFile: SynMut_1.20.0.zip PackageFileSize: 320.5 KiB